Workbook

Sheet Eingabe
A1: Name des Turniers | B1: Skyline-Turnier | D1: =+B1 -> Skyline-Turnier | F1: =+B1 -> Skyline-Turnier
A2: Platzierung | B2: 1 | D2: 2 | F2: 3
A3: Sieger (Name / Mannschaft) | B3: Jörn Radau | D3: Norbert Röhn | F3: Sandra L'hoest
A4: Spielpunkte | B4: 77 | D4: 66 | F4: 55
A5: Ort, Datum | B5: Frandfurt, 30.08.2026 | D5: =+B5 -> Frandfurt, 30.08.2026 | F5: =+B5 -> Frandfurt, 30.08.2026
A6: Ausrichter | B6: Rainer Grix | D6: =+B6 -> Rainer Grix | F6: =+B6 -> Rainer Grix
A7: Verein / Funktion | B7: F GUDE | D7: =+B7 -> F GUDE | F7: =+B7 -> F GUDE
A11: In den gelb hinterlegten Feldern die Stammdaten, die Preisträger und Spielpunkte eingeben, die orangenen Felder ziehen sich die Daten automatisch - in den Reitern "Druck 1-3" wird dann der Text auf die aktuellen Urkunden-Vordrucke passend eingefügt. Ausdrucken dann bittte aus den Reitern "Druck" - am besten einzeln!

Sheet Druck (1)
A1: =+Eingabe!B1 -> Skyline-Turnier
A3: =CONCATENATE(Eingabe!B2,". Platz") -> 1. Platz
A5: =+Eingabe!B3 -> Jörn Radau
A7: =CONCATENATE("mit ",Eingabe!B4," Spielpunkten",) -> mit 77 Spielpunkten
A10: =+Eingabe!B5 -> Frandfurt, 30.08.2026 | D10: =+Eingabe!B6 -> Rainer Grix
D11: =+Eingabe!B7 -> F GUDE

Sheet Druck (2)
A1: =+Eingabe!D1 -> Skyline-Turnier
A3: =CONCATENATE(Eingabe!D2,". Platz") -> 2. Platz
A5: =+Eingabe!D3 -> Norbert Röhn
A7: =CONCATENATE("mit ",Eingabe!D4," Spielpunkten",) -> mit 66 Spielpunkten
A10: =+Eingabe!D5 -> Frandfurt, 30.08.2026 | D10: =+Eingabe!D6 -> Rainer Grix
D11: =+Eingabe!D7 -> F GUDE

Sheet Druck (3)
A1: =+Eingabe!F1 -> Skyline-Turnier
A3: =CONCATENATE(Eingabe!F2,". Platz") -> 3. Platz
A5: =+Eingabe!F3 -> Sandra L'hoest
A7: =CONCATENATE("mit ",Eingabe!F4," Spielpunkten",) -> mit 55 Spielpunkten
A10: =+Eingabe!F5 -> Frandfurt, 30.08.2026 | D10: =+Eingabe!F6 -> Rainer Grix
D11: =+Eingabe!F7 -> F GUDE
