BEGIN:VCALENDAR
VERSION:2.0
PRODID:-//Deutscher Doppelkopf-Verband e.  V. - ECPv6.15.20//NONSGML v1.0//EN
CALSCALE:GREGORIAN
METHOD:PUBLISH
X-WR-CALNAME:Deutscher Doppelkopf-Verband e.  V.
X-ORIGINAL-URL:https://doko-verband.de
X-WR-CALDESC:Veranstaltungen für Deutscher Doppelkopf-Verband e.  V.
REFRESH-INTERVAL;VALUE=DURATION:PT1H
X-Robots-Tag:noindex
X-PUBLISHED-TTL:PT1H
BEGIN:VTIMEZONE
TZID:Europe/Berlin
BEGIN:DAYLIGHT
TZOFFSETFROM:+0100
TZOFFSETTO:+0200
TZNAME:CEST
DTSTART:20270328T010000
END:DAYLIGHT
BEGIN:STANDARD
TZOFFSETFROM:+0200
TZOFFSETTO:+0100
TZNAME:CET
DTSTART:20271031T010000
END:STANDARD
BEGIN:DAYLIGHT
TZOFFSETFROM:+0100
TZOFFSETTO:+0200
TZNAME:CEST
DTSTART:20280326T010000
END:DAYLIGHT
BEGIN:STANDARD
TZOFFSETFROM:+0200
TZOFFSETTO:+0100
TZNAME:CET
DTSTART:20281029T010000
END:STANDARD
BEGIN:DAYLIGHT
TZOFFSETFROM:+0100
TZOFFSETTO:+0200
TZNAME:CEST
DTSTART:20290325T010000
END:DAYLIGHT
BEGIN:STANDARD
TZOFFSETFROM:+0200
TZOFFSETTO:+0100
TZNAME:CET
DTSTART:20291028T010000
END:STANDARD
END:VTIMEZONE
BEGIN:VEVENT
DTSTART;VALUE=DATE:20280215
DTEND;VALUE=DATE:20280216
DTSTAMP:20260424T172659
CREATED:20250115T203336Z
LAST-MODIFIED:20250117T154919Z
UID:10000120-1834185600-1834271999@doko-verband.de
SUMMARY:Zahlungsfrist für Mitgliedsbeiträge und Startgelder (Regio\, Bundesliga\, BL-Quali\, DMM) und Anmeldefrist der Teilnehmer zu den Regionalmeisterschaften
DESCRIPTION:Letzter Tag für Zahlungen und Meldungen
URL:https://doko-verband.de/veranstaltung/zahlungsfrist-fuer-mitgliedsbeitraege-und-startgelder-regio-bundesliga-bl-quali-dmm-und-anmeldefrist-der-teilnehmer-zu-den-regionalmeisterschaften/2028-02-15/
LOCATION:D D V\, per E-Mail\, Iserlohn\, 58636\, Deutschland
CATEGORIES:Zahlungs- und Meldefristen
ORGANIZER;CN="DDV":MAILTO:spielleiter.ddv@doko-verband.de
GEO:51.3811544;7.7168169
X-APPLE-STRUCTURED-LOCATION;VALUE=URI;X-ADDRESS=D D V per E-Mail Iserlohn 58636 Deutschland;X-APPLE-RADIUS=500;X-TITLE=per E-Mail:geo:7.7168169,51.3811544
END:VEVENT
END:VCALENDAR