BEGIN:VCALENDAR
VERSION:2.0
PRODID:-//Deutscher Doppelkopf-Verband e.  V. - ECPv6.15.20//NONSGML v1.0//EN
CALSCALE:GREGORIAN
METHOD:PUBLISH
X-ORIGINAL-URL:https://doko-verband.de
X-WR-CALDESC:Veranstaltungen für Deutscher Doppelkopf-Verband e.  V.
REFRESH-INTERVAL;VALUE=DURATION:PT1H
X-Robots-Tag:noindex
X-PUBLISHED-TTL:PT1H
BEGIN:VTIMEZONE
TZID:Europe/Berlin
BEGIN:DAYLIGHT
TZOFFSETFROM:+0100
TZOFFSETTO:+0200
TZNAME:CEST
DTSTART:20260329T010000
END:DAYLIGHT
BEGIN:STANDARD
TZOFFSETFROM:+0200
TZOFFSETTO:+0100
TZNAME:CET
DTSTART:20261025T010000
END:STANDARD
BEGIN:DAYLIGHT
TZOFFSETFROM:+0100
TZOFFSETTO:+0200
TZNAME:CEST
DTSTART:20270328T010000
END:DAYLIGHT
BEGIN:STANDARD
TZOFFSETFROM:+0200
TZOFFSETTO:+0100
TZNAME:CET
DTSTART:20271031T010000
END:STANDARD
BEGIN:DAYLIGHT
TZOFFSETFROM:+0100
TZOFFSETTO:+0200
TZNAME:CEST
DTSTART:20280326T010000
END:DAYLIGHT
BEGIN:STANDARD
TZOFFSETFROM:+0200
TZOFFSETTO:+0100
TZNAME:CET
DTSTART:20281029T010000
END:STANDARD
BEGIN:DAYLIGHT
TZOFFSETFROM:+0100
TZOFFSETTO:+0200
TZNAME:CEST
DTSTART:20290325T010000
END:DAYLIGHT
BEGIN:STANDARD
TZOFFSETFROM:+0200
TZOFFSETTO:+0100
TZNAME:CET
DTSTART:20291028T010000
END:STANDARD
END:VTIMEZONE
BEGIN:VEVENT
DTSTART;VALUE=DATE:20270502
DTEND;VALUE=DATE:20270503
DTSTAMP:20260422T070409
CREATED:20250628T192954Z
LAST-MODIFIED:20260304T223207Z
UID:10000158-1809216000-1809302399@doko-verband.de
SUMMARY:Vorrunde DMM (falls benötigt)
DESCRIPTION:Sollten mehr als 40 Mannschaften gemeldet werden\, gibt es eine Vorrunde
URL:https://doko-verband.de/veranstaltung/vorrunde-dmm-falls-benoetigt/
CATEGORIES:Dt. Mannschaftsmeisterschaft
END:VEVENT
BEGIN:VEVENT
DTSTART;VALUE=DATE:20270522
DTEND;VALUE=DATE:20270523
DTSTAMP:20260422T070409
CREATED:20260304T224301Z
LAST-MODIFIED:20260304T224301Z
UID:10000211-1810944000-1811030399@doko-verband.de
SUMMARY:5. Spieltag Bundesliga 2027
DESCRIPTION:
URL:https://doko-verband.de/veranstaltung/5-spieltag-bundesliga-2027/
CATEGORIES:Bundesliga
END:VEVENT
BEGIN:VEVENT
DTSTART;VALUE=DATE:20270523
DTEND;VALUE=DATE:20270524
DTSTAMP:20260422T070409
CREATED:20260304T224318Z
LAST-MODIFIED:20260304T224318Z
UID:10000212-1811030400-1811116799@doko-verband.de
SUMMARY:6. Spieltag Bundesliga 2027
DESCRIPTION:
URL:https://doko-verband.de/veranstaltung/6-spieltag-bundesliga-2027/
CATEGORIES:Bundesliga
END:VEVENT
BEGIN:VEVENT
DTSTART;VALUE=DATE:20270701
DTEND;VALUE=DATE:20270702
DTSTAMP:20260422T070409
CREATED:20240910T213349Z
LAST-MODIFIED:20250408T225954Z
UID:10000220-1814400000-1814486399@doko-verband.de
SUMMARY:Fristende für den Zahlungseingang der Startgelder zur DEM sowie die Meldung der Teilnehmer zur DEM
DESCRIPTION:Letzter Tag für Zahlungen und Meldungen
URL:https://doko-verband.de/veranstaltung/zahlungs-und-meldefrist-2/2027-07-01/
LOCATION:D D V\, per E-Mail\, Iserlohn\, 58636\, Deutschland
CATEGORIES:Zahlungs- und Meldefristen
ORGANIZER;CN="DDV":MAILTO:spielleiter.ddv@doko-verband.de
GEO:51.3811544;7.7168169
X-APPLE-STRUCTURED-LOCATION;VALUE=URI;X-ADDRESS=D D V per E-Mail Iserlohn 58636 Deutschland;X-APPLE-RADIUS=500;X-TITLE=per E-Mail:geo:7.7168169,51.3811544
END:VEVENT
BEGIN:VEVENT
DTSTART;VALUE=DATE:20270911
DTEND;VALUE=DATE:20270912
DTSTAMP:20260422T070409
CREATED:20260304T222514Z
LAST-MODIFIED:20260304T222514Z
UID:10000200-1820620800-1820707199@doko-verband.de
SUMMARY:Achtelfinale DMM
DESCRIPTION:Einladungen werden noch bekannt gegeben.
URL:https://doko-verband.de/veranstaltung/achtelfinale-dmm-2/
CATEGORIES:Dt. Mannschaftsmeisterschaft
END:VEVENT
BEGIN:VEVENT
DTSTART;VALUE=DATE:20270912
DTEND;VALUE=DATE:20270913
DTSTAMP:20260422T070409
CREATED:20260304T222549Z
LAST-MODIFIED:20260304T222822Z
UID:10000201-1820707200-1820793599@doko-verband.de
SUMMARY:Viertelfinale DMM
DESCRIPTION:Einladungen werden noch bekannt gegeben.
URL:https://doko-verband.de/veranstaltung/viertelfinale-dmm-2/
CATEGORIES:Dt. Mannschaftsmeisterschaft
END:VEVENT
BEGIN:VEVENT
DTSTART;VALUE=DATE:20270925
DTEND;VALUE=DATE:20270926
DTSTAMP:20260422T070409
CREATED:20260304T223439Z
LAST-MODIFIED:20260304T223508Z
UID:10000204-1821830400-1821916799@doko-verband.de
SUMMARY:Dt. Einzelmeisterschaft  - Tag 1 (DDV / H MAZO)
DESCRIPTION:Einladung wird noch bekannt gegeben.
URL:https://doko-verband.de/veranstaltung/dt-einzelmeisterschaft-tag-2-ddv-h-mazo/
CATEGORIES:D E M + Regios
ORGANIZER;CN="DDV":MAILTO:spielleiter.ddv@doko-verband.de
END:VEVENT
BEGIN:VEVENT
DTSTART;VALUE=DATE:20270926
DTEND;VALUE=DATE:20270927
DTSTAMP:20260422T070409
CREATED:20260304T223500Z
LAST-MODIFIED:20260304T223500Z
UID:10000205-1821916800-1822003199@doko-verband.de
SUMMARY:Dt. Einzelmeisterschaft  - Tag 2 (DDV / H MAZO)
DESCRIPTION:Einladung wird noch bekannt gegeben.
URL:https://doko-verband.de/veranstaltung/dt-einzelmeisterschaft-tag-2-ddv-h-mazo-2/
CATEGORIES:D E M + Regios
ORGANIZER;CN="DDV":MAILTO:spielleiter.ddv@doko-verband.de
END:VEVENT
BEGIN:VEVENT
DTSTART;VALUE=DATE:20271009
DTEND;VALUE=DATE:20271010
DTSTAMP:20260422T070409
CREATED:20260304T224401Z
LAST-MODIFIED:20260304T224424Z
UID:10000213-1823040000-1823126399@doko-verband.de
SUMMARY:7. Spieltag Bundesliga 2027
DESCRIPTION:
URL:https://doko-verband.de/veranstaltung/6-spieltag-bundesliga-2027-2/
CATEGORIES:Bundesliga
END:VEVENT
BEGIN:VEVENT
DTSTART;VALUE=DATE:20271010
DTEND;VALUE=DATE:20271011
DTSTAMP:20260422T070409
CREATED:20260304T224418Z
LAST-MODIFIED:20260304T224418Z
UID:10000214-1823126400-1823212799@doko-verband.de
SUMMARY:8. Spieltag Bundesliga 2027
DESCRIPTION:
URL:https://doko-verband.de/veranstaltung/8-spieltag-bundesliga-2027/
CATEGORIES:Bundesliga
END:VEVENT
BEGIN:VEVENT
DTSTART;VALUE=DATE:20271106
DTEND;VALUE=DATE:20271107
DTSTAMP:20260422T070409
CREATED:20260304T222622Z
LAST-MODIFIED:20260304T222622Z
UID:10000202-1825459200-1825545599@doko-verband.de
SUMMARY:Halbfinale DMM
DESCRIPTION:Einladungen werden noch bekannt gegeben.
URL:https://doko-verband.de/veranstaltung/halbfinale-dmm-3/
CATEGORIES:Dt. Mannschaftsmeisterschaft
END:VEVENT
BEGIN:VEVENT
DTSTART;VALUE=DATE:20271107
DTEND;VALUE=DATE:20271108
DTSTAMP:20260422T070409
CREATED:20260304T222653Z
LAST-MODIFIED:20260304T222653Z
UID:10000203-1825545600-1825631999@doko-verband.de
SUMMARY:Finale DMM
DESCRIPTION:Einladungen werden noch bekannt gegeben.
URL:https://doko-verband.de/veranstaltung/finale-dmm-3/
CATEGORIES:Dt. Mannschaftsmeisterschaft
END:VEVENT
BEGIN:VEVENT
DTSTART;VALUE=DATE:20271120
DTEND;VALUE=DATE:20271121
DTSTAMP:20260422T070409
CREATED:20260304T224448Z
LAST-MODIFIED:20260304T224448Z
UID:10000215-1826668800-1826755199@doko-verband.de
SUMMARY:9. Spieltag Bundesliga 2027
DESCRIPTION:
URL:https://doko-verband.de/veranstaltung/9-spieltag-bundesliga-2027/
CATEGORIES:Bundesliga
END:VEVENT
BEGIN:VEVENT
DTSTART;VALUE=DATE:20271121
DTEND;VALUE=DATE:20271122
DTSTAMP:20260422T070409
CREATED:20260304T224509Z
LAST-MODIFIED:20260304T224509Z
UID:10000216-1826755200-1826841599@doko-verband.de
SUMMARY:10. Spieltag Bundesliga 2027
DESCRIPTION:
URL:https://doko-verband.de/veranstaltung/10-spieltag-bundesliga-2027/
CATEGORIES:Bundesliga
END:VEVENT
BEGIN:VEVENT
DTSTART;VALUE=DATE:20280215
DTEND;VALUE=DATE:20280216
DTSTAMP:20260422T070409
CREATED:20250115T203336Z
LAST-MODIFIED:20250117T154919Z
UID:10000120-1834185600-1834271999@doko-verband.de
SUMMARY:Zahlungsfrist für Mitgliedsbeiträge und Startgelder (Regio\, Bundesliga\, BL-Quali\, DMM) und Anmeldefrist der Teilnehmer zu den Regionalmeisterschaften
DESCRIPTION:Letzter Tag für Zahlungen und Meldungen
URL:https://doko-verband.de/veranstaltung/zahlungsfrist-fuer-mitgliedsbeitraege-und-startgelder-regio-bundesliga-bl-quali-dmm-und-anmeldefrist-der-teilnehmer-zu-den-regionalmeisterschaften/2028-02-15/
LOCATION:D D V\, per E-Mail\, Iserlohn\, 58636\, Deutschland
CATEGORIES:Zahlungs- und Meldefristen
ORGANIZER;CN="DDV":MAILTO:spielleiter.ddv@doko-verband.de
GEO:51.3811544;7.7168169
X-APPLE-STRUCTURED-LOCATION;VALUE=URI;X-ADDRESS=D D V per E-Mail Iserlohn 58636 Deutschland;X-APPLE-RADIUS=500;X-TITLE=per E-Mail:geo:7.7168169,51.3811544
END:VEVENT
END:VCALENDAR