BEGIN:VCALENDAR
VERSION:2.0
PRODID:-//Deutscher Doppelkopf-Verband e.  V. - ECPv6.15.20//NONSGML v1.0//EN
CALSCALE:GREGORIAN
METHOD:PUBLISH
X-ORIGINAL-URL:https://doko-verband.de
X-WR-CALDESC:Veranstaltungen für Deutscher Doppelkopf-Verband e.  V.
REFRESH-INTERVAL;VALUE=DURATION:PT1H
X-Robots-Tag:noindex
X-PUBLISHED-TTL:PT1H
BEGIN:VTIMEZONE
TZID:Europe/Berlin
BEGIN:DAYLIGHT
TZOFFSETFROM:+0100
TZOFFSETTO:+0200
TZNAME:CEST
DTSTART:20240331T010000
END:DAYLIGHT
BEGIN:STANDARD
TZOFFSETFROM:+0200
TZOFFSETTO:+0100
TZNAME:CET
DTSTART:20241027T010000
END:STANDARD
BEGIN:DAYLIGHT
TZOFFSETFROM:+0100
TZOFFSETTO:+0200
TZNAME:CEST
DTSTART:20250330T010000
END:DAYLIGHT
BEGIN:STANDARD
TZOFFSETFROM:+0200
TZOFFSETTO:+0100
TZNAME:CET
DTSTART:20251026T010000
END:STANDARD
BEGIN:DAYLIGHT
TZOFFSETFROM:+0100
TZOFFSETTO:+0200
TZNAME:CEST
DTSTART:20260329T010000
END:DAYLIGHT
BEGIN:STANDARD
TZOFFSETFROM:+0200
TZOFFSETTO:+0100
TZNAME:CET
DTSTART:20261025T010000
END:STANDARD
END:VTIMEZONE
BEGIN:VEVENT
DTSTART;TZID=Europe/Berlin:20250118T100000
DTEND;TZID=Europe/Berlin:20250118T180000
DTSTAMP:20260422T084839
CREATED:20240913T232216Z
LAST-MODIFIED:20241221T224933Z
UID:10000064-1737194400-1737223200@doko-verband.de
SUMMARY:3. FDH-Pokal (MO K92)
DESCRIPTION:Max. 88 Teilnehmer – Einladung zum Download  –  vereinfachte Anmeldung
URL:https://doko-verband.de/veranstaltung/3-fdh-pokal-mo-k92/
LOCATION:Steakhaus „Am Dachsberg“\, Rheurdter Str. 209\, Kamp-Lintfort\, 47475\, Deutschland
CATEGORIES:Ranglistenturniere
ORGANIZER;CN="MO K92":MAILTO:Dorothee.benninghoff@arcor.de
GEO:51.4963695;6.5075107
X-APPLE-STRUCTURED-LOCATION;VALUE=URI;X-ADDRESS=Steakhaus „Am Dachsberg“ Rheurdter Str. 209 Kamp-Lintfort 47475 Deutschland;X-APPLE-RADIUS=500;X-TITLE=Rheurdter Str. 209:geo:6.5075107,51.4963695
END:VEVENT
BEGIN:VEVENT
DTSTART;TZID=Europe/Berlin:20250119T093000
DTEND;TZID=Europe/Berlin:20250119T183000
DTSTAMP:20260422T084839
CREATED:20240913T232441Z
LAST-MODIFIED:20241221T225307Z
UID:10000065-1737279000-1737311400@doko-verband.de
SUMMARY:5. Klaus-Dieter-Herbst-Pokal (MO K92)
DESCRIPTION:Max. 88 Teilnehmer – Einladung zum Download  –  vereinfachte Anmeldung
URL:https://doko-verband.de/veranstaltung/5-klaus-dieter-herbst-pokal-mo-k92/
LOCATION:Steakhaus „Am Dachsberg“\, Rheurdter Str. 209\, Kamp-Lintfort\, 47475\, Deutschland
CATEGORIES:Ranglistenturniere
ORGANIZER;CN="MO K92":MAILTO:Dorothee.benninghoff@arcor.de
GEO:51.4963695;6.5075107
X-APPLE-STRUCTURED-LOCATION;VALUE=URI;X-ADDRESS=Steakhaus „Am Dachsberg“ Rheurdter Str. 209 Kamp-Lintfort 47475 Deutschland;X-APPLE-RADIUS=500;X-TITLE=Rheurdter Str. 209:geo:6.5075107,51.4963695
END:VEVENT
END:VCALENDAR