BEGIN:VCALENDAR
VERSION:2.0
PRODID:-//Deutscher Doppelkopf-Verband e.  V. - ECPv6.15.20//NONSGML v1.0//EN
CALSCALE:GREGORIAN
METHOD:PUBLISH
X-ORIGINAL-URL:https://doko-verband.de
X-WR-CALDESC:Veranstaltungen für Deutscher Doppelkopf-Verband e.  V.
REFRESH-INTERVAL;VALUE=DURATION:PT1H
X-Robots-Tag:noindex
X-PUBLISHED-TTL:PT1H
BEGIN:VTIMEZONE
TZID:Europe/Berlin
BEGIN:DAYLIGHT
TZOFFSETFROM:+0100
TZOFFSETTO:+0200
TZNAME:CEST
DTSTART:20240331T010000
END:DAYLIGHT
BEGIN:STANDARD
TZOFFSETFROM:+0200
TZOFFSETTO:+0100
TZNAME:CET
DTSTART:20241027T010000
END:STANDARD
BEGIN:DAYLIGHT
TZOFFSETFROM:+0100
TZOFFSETTO:+0200
TZNAME:CEST
DTSTART:20250330T010000
END:DAYLIGHT
BEGIN:STANDARD
TZOFFSETFROM:+0200
TZOFFSETTO:+0100
TZNAME:CET
DTSTART:20251026T010000
END:STANDARD
BEGIN:DAYLIGHT
TZOFFSETFROM:+0100
TZOFFSETTO:+0200
TZNAME:CEST
DTSTART:20260329T010000
END:DAYLIGHT
BEGIN:STANDARD
TZOFFSETFROM:+0200
TZOFFSETTO:+0100
TZNAME:CET
DTSTART:20261025T010000
END:STANDARD
END:VTIMEZONE
BEGIN:VEVENT
DTSTART;VALUE=DATE:20250215
DTEND;VALUE=DATE:20250216
DTSTAMP:20260422T070134
CREATED:20250115T203336Z
LAST-MODIFIED:20250117T154919Z
UID:10000117-1739577600-1739663999@doko-verband.de
SUMMARY:Zahlungsfrist für Mitgliedsbeiträge und Startgelder (Regio\, Bundesliga\, BL-Quali\, DMM) und Anmeldefrist der Teilnehmer zu den Regionalmeisterschaften
DESCRIPTION:Letzter Tag für Zahlungen und Meldungen
URL:https://doko-verband.de/veranstaltung/zahlungsfrist-fuer-mitgliedsbeitraege-und-startgelder-regio-bundesliga-bl-quali-dmm-und-anmeldefrist-der-teilnehmer-zu-den-regionalmeisterschaften/2025-02-15/
LOCATION:D D V\, per E-Mail\, Iserlohn\, 58636\, Deutschland
CATEGORIES:Zahlungs- und Meldefristen
ORGANIZER;CN="DDV":MAILTO:spielleiter.ddv@doko-verband.de
GEO:51.3811544;7.7168169
X-APPLE-STRUCTURED-LOCATION;VALUE=URI;X-ADDRESS=D D V per E-Mail Iserlohn 58636 Deutschland;X-APPLE-RADIUS=500;X-TITLE=per E-Mail:geo:7.7168169,51.3811544
END:VEVENT
BEGIN:VEVENT
DTSTART;TZID=Europe/Berlin:20250222T103000
DTEND;TZID=Europe/Berlin:20250222T103000
DTSTAMP:20260422T070134
CREATED:20240913T233135Z
LAST-MODIFIED:20250122T203923Z
UID:10000067-1740220200-1740220200@doko-verband.de
SUMMARY:Mitgliederversammlung des DDV
DESCRIPTION:Einladung\, Tagesordnung und Anträge werden den Vereinsvorsitzenden zugeschickt.
URL:https://doko-verband.de/veranstaltung/mitgliederversammlung-des-ddv/
LOCATION:4-Generationen-Park\, Kantallee 8\, Wathlingen\, 29339\, Deutschland
CATEGORIES:M G V
ORGANIZER;CN="DDV":MAILTO:spielleiter.ddv@doko-verband.de
GEO:52.5368155;10.1417063
X-APPLE-STRUCTURED-LOCATION;VALUE=URI;X-ADDRESS=4-Generationen-Park Kantallee 8 Wathlingen 29339 Deutschland;X-APPLE-RADIUS=500;X-TITLE=Kantallee 8:geo:10.1417063,52.5368155
END:VEVENT
BEGIN:VEVENT
DTSTART;TZID=Europe/Berlin:20250223T093000
DTEND;TZID=Europe/Berlin:20250223T170000
DTSTAMP:20260422T070134
CREATED:20240913T232853Z
LAST-MODIFIED:20241221T224831Z
UID:10000066-1740303000-1740330000@doko-verband.de
SUMMARY:Turnier zur MGV (Veranstalter: DDV)
DESCRIPTION:Max. 80 Teilnehmer – Einladung und Anmeldung hinter den vorstehenden Links
URL:https://doko-verband.de/veranstaltung/turnier-zur-mgv-ddv/
LOCATION:4-Generationen-Park\, Kantallee 8\, Wathlingen\, 29339\, Deutschland
CATEGORIES:Ranglistenturniere
ORGANIZER;CN="DDV":MAILTO:spielleiter.ddv@doko-verband.de
GEO:52.5368155;10.1417063
X-APPLE-STRUCTURED-LOCATION;VALUE=URI;X-ADDRESS=4-Generationen-Park Kantallee 8 Wathlingen 29339 Deutschland;X-APPLE-RADIUS=500;X-TITLE=Kantallee 8:geo:10.1417063,52.5368155
END:VEVENT
END:VCALENDAR