BEGIN:VCALENDAR
VERSION:2.0
PRODID:-//Deutscher Doppelkopf-Verband e.  V. - ECPv6.15.20//NONSGML v1.0//EN
CALSCALE:GREGORIAN
METHOD:PUBLISH
X-ORIGINAL-URL:https://doko-verband.de
X-WR-CALDESC:Veranstaltungen für Deutscher Doppelkopf-Verband e.  V.
REFRESH-INTERVAL;VALUE=DURATION:PT1H
X-Robots-Tag:noindex
X-PUBLISHED-TTL:PT1H
BEGIN:VTIMEZONE
TZID:Europe/Berlin
BEGIN:DAYLIGHT
TZOFFSETFROM:+0100
TZOFFSETTO:+0200
TZNAME:CEST
DTSTART:20240331T010000
END:DAYLIGHT
BEGIN:STANDARD
TZOFFSETFROM:+0200
TZOFFSETTO:+0100
TZNAME:CET
DTSTART:20241027T010000
END:STANDARD
BEGIN:DAYLIGHT
TZOFFSETFROM:+0100
TZOFFSETTO:+0200
TZNAME:CEST
DTSTART:20250330T010000
END:DAYLIGHT
BEGIN:STANDARD
TZOFFSETFROM:+0200
TZOFFSETTO:+0100
TZNAME:CET
DTSTART:20251026T010000
END:STANDARD
BEGIN:DAYLIGHT
TZOFFSETFROM:+0100
TZOFFSETTO:+0200
TZNAME:CEST
DTSTART:20260329T010000
END:DAYLIGHT
BEGIN:STANDARD
TZOFFSETFROM:+0200
TZOFFSETTO:+0100
TZNAME:CET
DTSTART:20261025T010000
END:STANDARD
END:VTIMEZONE
BEGIN:VEVENT
DTSTART;TZID=Europe/Berlin:20250606T080000
DTEND;TZID=Europe/Berlin:20250609T170000
DTSTAMP:20260421T232846
CREATED:20241005T195642Z
LAST-MODIFIED:20241005T195642Z
UID:10000091-1749196800-1749488400@doko-verband.de
SUMMARY:Workshop
DESCRIPTION:
URL:https://doko-verband.de/veranstaltung/workshop/
ORGANIZER;CN="DDV":MAILTO:spielleiter.ddv@doko-verband.de
END:VEVENT
BEGIN:VEVENT
DTSTART;TZID=Europe/Berlin:20250621T103000
DTEND;TZID=Europe/Berlin:20250621T103000
DTSTAMP:20260421T232846
CREATED:20240917T213247Z
LAST-MODIFIED:20250601T201444Z
UID:10000087-1750501800-1750501800@doko-verband.de
SUMMARY:16. Weinkellerstrassen-Pokal (EE DIAL)Max. 80 Teilnehmer - Teil 1 der "Sommertournee"
DESCRIPTION:Einladung zum Download und vereinfachte Anmeldung \nIn Schlieben gibt es eine Gedenkstätte eines Außenlagers vom KZ Buchenwald. Einige Dokospieler haben Interesse am Besuch dieser KZ-Gedenkstätte geäußert. Mit dem Leiter dieser Gedenkstätte\, Dr. Wolf\, habe ich vereinbart dass Interessenten dies am Freitag von 16:00 bis 18:00 Uhr tun können. \nInteressenten müssten sich an mich per E-Mail oder unter 0353/6189736 melden. \nWolfgang Geister
URL:https://doko-verband.de/veranstaltung/16-weinkellerstrassen-pokal-ee-dial/
LOCATION:Ratskeller\, Markt 5\, Schlieben\, 4936\, Germany
CATEGORIES:Ranglistenturniere
ORGANIZER;CN="EE DIAL":MAILTO:friedajoh@gmail.com
GEO:51.724023;13.3830533
X-APPLE-STRUCTURED-LOCATION;VALUE=URI;X-ADDRESS=Ratskeller Markt 5 Schlieben 4936 Germany;X-APPLE-RADIUS=500;X-TITLE=Markt 5:geo:13.3830533,51.724023
END:VEVENT
BEGIN:VEVENT
DTSTART;TZID=Europe/Berlin:20250622T100000
DTEND;TZID=Europe/Berlin:20250622T100000
DTSTAMP:20260421T232846
CREATED:20240917T213453Z
LAST-MODIFIED:20250517T154623Z
UID:10000088-1750586400-1750586400@doko-verband.de
SUMMARY:Hauptstadt-Pokal (B FUEX)Max. 80 Teilnehmer - Teil 2 der "Sommertournee"
DESCRIPTION:Einladung zum Download und vereinfachte Anmeldung
URL:https://doko-verband.de/veranstaltung/hauptstadt-pokal-b-fuex/
LOCATION:Sportcasino Schöneberg\, Priesterweg 2\, Berlin\, 10829\, Deutschland
CATEGORIES:Ranglistenturniere
ORGANIZER;CN="B FUEX":MAILTO:fuxexperten@gmail.com
GEO:52.4759524;13.3560026
X-APPLE-STRUCTURED-LOCATION;VALUE=URI;X-ADDRESS=Sportcasino Schöneberg Priesterweg 2 Berlin 10829 Deutschland;X-APPLE-RADIUS=500;X-TITLE=Priesterweg 2:geo:13.3560026,52.4759524
END:VEVENT
BEGIN:VEVENT
DTSTART;TZID=Europe/Berlin:20250628T100000
DTEND;TZID=Europe/Berlin:20250628T100000
DTSTAMP:20260421T232846
CREATED:20240917T213607Z
LAST-MODIFIED:20250415T224909Z
UID:10000089-1751104800-1751104800@doko-verband.de
SUMMARY:16. Warnow-Pokal (HRO ED)Max. 100 Teilnehmer - Teil 3 der "Sommertournee"
DESCRIPTION:Einladung zum Download und vereinfachte Anmeldung
URL:https://doko-verband.de/veranstaltung/16-warnow-pokal-hroed/
LOCATION:Hafenkantine Rostock\, Fischerweg 18\, Rostock\, 18069\, Deutschland
CATEGORIES:Ranglistenturniere
ORGANIZER;CN="HRO ED":MAILTO:thoms@btz-ib.de
GEO:54.1167164;12.0847639
X-APPLE-STRUCTURED-LOCATION;VALUE=URI;X-ADDRESS=Hafenkantine Rostock Fischerweg 18 Rostock 18069 Deutschland;X-APPLE-RADIUS=500;X-TITLE=Fischerweg 18:geo:12.0847639,54.1167164
END:VEVENT
BEGIN:VEVENT
DTSTART;TZID=Europe/Berlin:20250629T093000
DTEND;TZID=Europe/Berlin:20250629T093000
DTSTAMP:20260421T232846
CREATED:20240917T213731Z
LAST-MODIFIED:20250315T215839Z
UID:10000090-1751189400-1751189400@doko-verband.de
SUMMARY:Sonderturnier (HL DC)Max. 100 Teilnehmer - Teil 4 der "Sommertournee"
DESCRIPTION:Einladung zum Download und vereinfachte Anmeldung
URL:https://doko-verband.de/veranstaltung/sonderturnier-hl-dc/
LOCATION:„Blockhütte“\, Koggenweg 1\, Lübeck\, 23558\, Deutschland
CATEGORIES:Ranglistenturniere
ORGANIZER;CN="HL DC":MAILTO:HL-DC@t-online.de
GEO:53.8538692;10.6426771
X-APPLE-STRUCTURED-LOCATION;VALUE=URI;X-ADDRESS=„Blockhütte“ Koggenweg 1 Lübeck 23558 Deutschland;X-APPLE-RADIUS=500;X-TITLE=Koggenweg 1:geo:10.6426771,53.8538692
END:VEVENT
END:VCALENDAR