BEGIN:VCALENDAR
VERSION:2.0
PRODID:-//Deutscher Doppelkopf-Verband e.  V. - ECPv6.15.20//NONSGML v1.0//EN
CALSCALE:GREGORIAN
METHOD:PUBLISH
X-WR-CALNAME:Deutscher Doppelkopf-Verband e.  V.
X-ORIGINAL-URL:https://doko-verband.de
X-WR-CALDESC:Veranstaltungen für Deutscher Doppelkopf-Verband e.  V.
REFRESH-INTERVAL;VALUE=DURATION:PT1H
X-Robots-Tag:noindex
X-PUBLISHED-TTL:PT1H
BEGIN:VTIMEZONE
TZID:Europe/Berlin
BEGIN:DAYLIGHT
TZOFFSETFROM:+0100
TZOFFSETTO:+0200
TZNAME:CEST
DTSTART:20240331T010000
END:DAYLIGHT
BEGIN:STANDARD
TZOFFSETFROM:+0200
TZOFFSETTO:+0100
TZNAME:CET
DTSTART:20241027T010000
END:STANDARD
BEGIN:DAYLIGHT
TZOFFSETFROM:+0100
TZOFFSETTO:+0200
TZNAME:CEST
DTSTART:20250330T010000
END:DAYLIGHT
BEGIN:STANDARD
TZOFFSETFROM:+0200
TZOFFSETTO:+0100
TZNAME:CET
DTSTART:20251026T010000
END:STANDARD
BEGIN:DAYLIGHT
TZOFFSETFROM:+0100
TZOFFSETTO:+0200
TZNAME:CEST
DTSTART:20260329T010000
END:DAYLIGHT
BEGIN:STANDARD
TZOFFSETFROM:+0200
TZOFFSETTO:+0100
TZNAME:CET
DTSTART:20261025T010000
END:STANDARD
END:VTIMEZONE
BEGIN:VEVENT
DTSTART;TZID=Europe/Berlin:20250913T100000
DTEND;TZID=Europe/Berlin:20250913T100000
DTSTAMP:20260421T140030
CREATED:20241108T215259Z
LAST-MODIFIED:20250803T205839Z
UID:10000100-1757757600-1757757600@doko-verband.de
SUMMARY:Sonderturnier (BN FURH)
DESCRIPTION:Maximal 80 Teilnehmer – Einladung zum Download und vereinfachte Anmeldung
URL:https://doko-verband.de/veranstaltung/sonderturnier-bn-furh/
LOCATION:Gaststätte „Dreizehn Linden“\, Löwenburgstraße 35\, Bonn-Niederholtorf\, 53229\, Deutschland
CATEGORIES:Ranglistenturniere
GEO:50.7345831;7.1797344
X-APPLE-STRUCTURED-LOCATION;VALUE=URI;X-ADDRESS=Gaststätte „Dreizehn Linden“ Löwenburgstraße 35 Bonn-Niederholtorf 53229 Deutschland;X-APPLE-RADIUS=500;X-TITLE=Löwenburgstraße 35:geo:7.1797344,50.7345831
END:VEVENT
BEGIN:VEVENT
DTSTART;TZID=Europe/Berlin:20250914T100000
DTEND;TZID=Europe/Berlin:20250914T100000
DTSTAMP:20260421T140030
CREATED:20241108T215339Z
LAST-MODIFIED:20250803T210008Z
UID:10000101-1757844000-1757844000@doko-verband.de
SUMMARY:2. Bonn-Fuchs-R(h)ein-Pokal
DESCRIPTION:Maximal 80 Teilnehmer – Einladung zum Download und vereinfachte Anmeldung
URL:https://doko-verband.de/veranstaltung/2-bonn-fuchs-rhein-pokal/
LOCATION:Gaststätte „Dreizehn Linden“\, Löwenburgstraße 35\, Bonn-Niederholtorf\, 53229\, Deutschland
CATEGORIES:Ranglistenturniere
GEO:50.7345831;7.1797344
X-APPLE-STRUCTURED-LOCATION;VALUE=URI;X-ADDRESS=Gaststätte „Dreizehn Linden“ Löwenburgstraße 35 Bonn-Niederholtorf 53229 Deutschland;X-APPLE-RADIUS=500;X-TITLE=Löwenburgstraße 35:geo:7.1797344,50.7345831
END:VEVENT
BEGIN:VEVENT
DTSTART;TZID=Europe/Berlin:20250920T103000
DTEND;TZID=Europe/Berlin:20250920T103000
DTSTAMP:20260421T140030
CREATED:20240917T212654Z
LAST-MODIFIED:20250813T181427Z
UID:10000086-1758364200-1758364200@doko-verband.de
SUMMARY:Dt. Einzelmeisterschaft  - Tag 1 (DDV / NOMBAZ)Mittagsbuffet (15\,00 EUR) muss bis 01.09. vorbestellt werden
DESCRIPTION:Einladung zum Download – Beachtet die Vorbestellung für das Buffet (jeweils 15\,00 EUR) unter nombaz@aol.de. Bitte vereinsweise mit namentlicher Nennung bestellen.
URL:https://doko-verband.de/veranstaltung/dt-einzelmeisterschaft-ddv-nombaz/
LOCATION:Landhaus Greene\, Steinweg 5\, Einbeck\, 37574\, Deutschland
CATEGORIES:D E M + Regios
ORGANIZER;CN="DDV":MAILTO:spielleiter.ddv@doko-verband.de
GEO:51.8588376;9.9437037
X-APPLE-STRUCTURED-LOCATION;VALUE=URI;X-ADDRESS=Landhaus Greene Steinweg 5 Einbeck 37574 Deutschland;X-APPLE-RADIUS=500;X-TITLE=Steinweg 5:geo:9.9437037,51.8588376
END:VEVENT
BEGIN:VEVENT
DTSTART;TZID=Europe/Berlin:20250921T093000
DTEND;TZID=Europe/Berlin:20250921T093000
DTSTAMP:20260421T140030
CREATED:20250101T191032Z
LAST-MODIFIED:20250813T181424Z
UID:10000109-1758447000-1758447000@doko-verband.de
SUMMARY:Dt. Einzelmeisterschaft  - Tag 2 (DDV / NOMBAZ)Mittagsbuffet (15\,00 EUR) muss bis 01.09. vorbestellt werden
DESCRIPTION:Einladung zum Download – Beachtet die Vorbestellung für das Buffet (jeweils 15\,00 EUR) unter nombaz@aol.de. Bitte vereinsweise mit namentlicher Nennung bestellen.
URL:https://doko-verband.de/veranstaltung/dt-einzelmeisterschaft-tag-2-ddv-nombaz/
LOCATION:Landhaus Greene\, Steinweg 5\, Einbeck\, 37574\, Deutschland
CATEGORIES:D E M + Regios
ORGANIZER;CN="DDV":MAILTO:spielleiter.ddv@doko-verband.de
GEO:51.8588376;9.9437037
X-APPLE-STRUCTURED-LOCATION;VALUE=URI;X-ADDRESS=Landhaus Greene Steinweg 5 Einbeck 37574 Deutschland;X-APPLE-RADIUS=500;X-TITLE=Steinweg 5:geo:9.9437037,51.8588376
END:VEVENT
END:VCALENDAR