BEGIN:VCALENDAR
VERSION:2.0
PRODID:-//Deutscher Doppelkopf-Verband e.  V. - ECPv6.15.20//NONSGML v1.0//EN
CALSCALE:GREGORIAN
METHOD:PUBLISH
X-WR-CALNAME:Deutscher Doppelkopf-Verband e.  V.
X-ORIGINAL-URL:https://doko-verband.de
X-WR-CALDESC:Veranstaltungen für Deutscher Doppelkopf-Verband e.  V.
REFRESH-INTERVAL;VALUE=DURATION:PT1H
X-Robots-Tag:noindex
X-PUBLISHED-TTL:PT1H
BEGIN:VTIMEZONE
TZID:Europe/Berlin
BEGIN:DAYLIGHT
TZOFFSETFROM:+0100
TZOFFSETTO:+0200
TZNAME:CEST
DTSTART:20240331T010000
END:DAYLIGHT
BEGIN:STANDARD
TZOFFSETFROM:+0200
TZOFFSETTO:+0100
TZNAME:CET
DTSTART:20241027T010000
END:STANDARD
BEGIN:DAYLIGHT
TZOFFSETFROM:+0100
TZOFFSETTO:+0200
TZNAME:CEST
DTSTART:20250330T010000
END:DAYLIGHT
BEGIN:STANDARD
TZOFFSETFROM:+0200
TZOFFSETTO:+0100
TZNAME:CET
DTSTART:20251026T010000
END:STANDARD
BEGIN:DAYLIGHT
TZOFFSETFROM:+0100
TZOFFSETTO:+0200
TZNAME:CEST
DTSTART:20260329T010000
END:DAYLIGHT
BEGIN:STANDARD
TZOFFSETFROM:+0200
TZOFFSETTO:+0100
TZNAME:CET
DTSTART:20261025T010000
END:STANDARD
END:VTIMEZONE
BEGIN:VEVENT
DTSTART;VALUE=DATE:20251011
DTEND;VALUE=DATE:20251012
DTSTAMP:20260421T123706
CREATED:20240915T225354Z
LAST-MODIFIED:20250828T204226Z
UID:10000074-1760140800-1760227199@doko-verband.de
SUMMARY:7. Spieltag Bundesliga Meldeschluss HB EBDC: 10:30 Uhr  -  MO K92: 10:00 Uhr  -  NOM BAZ: 10:30 Uhr  -  MZ DR: 11:00 Uhr
DESCRIPTION:Einladungen finden sich H I E R
URL:https://doko-verband.de/veranstaltung/7-spieltag-bundesliga/
LOCATION:Gaststätte im Bürgerhaus Ginsheim\, Frankfurter Str. 39\, Ginsheim-Gustavsburg\, 65462\, Deutschland
CATEGORIES:Bundesliga
ORGANIZER;CN="HB EBDC / OL 1ODC - BL":MAILTO:rowdy420@arcor.de
GEO:49.9951996;8.3182834
X-APPLE-STRUCTURED-LOCATION;VALUE=URI;X-ADDRESS=Gaststätte im Bürgerhaus Ginsheim Frankfurter Str. 39 Ginsheim-Gustavsburg 65462 Deutschland;X-APPLE-RADIUS=500;X-TITLE=Frankfurter Str. 39:geo:8.3182834,49.9951996
END:VEVENT
BEGIN:VEVENT
DTSTART;VALUE=DATE:20251011
DTEND;VALUE=DATE:20251013
DTSTAMP:20260421T123706
CREATED:20250122T203330Z
LAST-MODIFIED:20250415T224329Z
UID:10000129-1760140800-1760313599@doko-verband.de
SUMMARY:2. Doppelspieltag der Bundesliga-QualiAusrichter: M DDUL - Meldeschluss SA: 10:30 Uhr\, SO: 09:00 Uhr
DESCRIPTION:Einladung zum Download
URL:https://doko-verband.de/veranstaltung/2-doppelspieltag-der-bundesliga-qualiausrichter-m-ddul/
LOCATION:MKV-Sportgaststätte\, Säbener Str. 49\, München\, 81547\, Deutschland
CATEGORIES:Bundesliga
ORGANIZER;CN="M DDUL - Quali":MAILTO:Claudia_weidmann@web.de
GEO:48.1029885;11.5732288
X-APPLE-STRUCTURED-LOCATION;VALUE=URI;X-ADDRESS=MKV-Sportgaststätte Säbener Str. 49 München 81547 Deutschland;X-APPLE-RADIUS=500;X-TITLE=Säbener Str. 49:geo:11.5732288,48.1029885
END:VEVENT
BEGIN:VEVENT
DTSTART;VALUE=DATE:20251012
DTEND;VALUE=DATE:20251013
DTSTAMP:20260421T123706
CREATED:20240915T225413Z
LAST-MODIFIED:20250828T204352Z
UID:10000075-1760227200-1760313599@doko-verband.de
SUMMARY:8. Spieltag Bundesliga Meldeschluss HB EBDC: 9:00 Uhr  -  MO K92: 9:00 Uhr  -  NOM BAZ: 9:00 Uhr  -  MZ DR: 10:00 Uhr
DESCRIPTION:Einladungen finden sich H I E R
URL:https://doko-verband.de/veranstaltung/8-spieltag-bundesliga/
LOCATION:Gaststätte im Bürgerhaus Ginsheim\, Frankfurter Str. 39\, Ginsheim-Gustavsburg\, 65462\, Deutschland
CATEGORIES:Bundesliga
ORGANIZER;CN="HB EBDC / OL 1ODC - BL":MAILTO:rowdy420@arcor.de
GEO:49.9951996;8.3182834
X-APPLE-STRUCTURED-LOCATION;VALUE=URI;X-ADDRESS=Gaststätte im Bürgerhaus Ginsheim Frankfurter Str. 39 Ginsheim-Gustavsburg 65462 Deutschland;X-APPLE-RADIUS=500;X-TITLE=Frankfurter Str. 39:geo:8.3182834,49.9951996
END:VEVENT
BEGIN:VEVENT
DTSTART;TZID=Europe/Berlin:20251025T103000
DTEND;TZID=Europe/Berlin:20251025T103000
DTSTAMP:20260421T123706
CREATED:20240716T202422Z
LAST-MODIFIED:20250813T190014Z
UID:10000010-1761388200-1761388200@doko-verband.de
SUMMARY:Turnier in Lüneburg
DESCRIPTION:Maximal 72 Teilnehmer – Einladung zum Download und vereinfachte Anmeldung
URL:https://doko-verband.de/veranstaltung/turnier-in-lueneburg/
LOCATION:Zum Hägfeld\, Bülows Kamp 35\, Lüneburg\, 21337\, Deutschland
CATEGORIES:Ranglistenturniere
ORGANIZER;CN="LG FLLG / LG L%C3%9CL%C3%9C":MAILTO:susanne_ingenhorst@web.de
GEO:53.2323285;10.4467209
X-APPLE-STRUCTURED-LOCATION;VALUE=URI;X-ADDRESS=Zum Hägfeld Bülows Kamp 35 Lüneburg 21337 Deutschland;X-APPLE-RADIUS=500;X-TITLE=Bülows Kamp 35:geo:10.4467209,53.2323285
END:VEVENT
BEGIN:VEVENT
DTSTART;TZID=Europe/Berlin:20251026T100000
DTEND;TZID=Europe/Berlin:20251026T100000
DTSTAMP:20260421T123706
CREATED:20240717T205004Z
LAST-MODIFIED:20250813T201657Z
UID:10000011-1761472800-1761472800@doko-verband.de
SUMMARY:39. Rolandpokal (HB EBDC)
DESCRIPTION:Maximal 88 Teilnehmer – Einladung zum Download und vereinfachte Anmeldung
URL:https://doko-verband.de/veranstaltung/38-rolandpokal-hb-ebdc/
LOCATION:Tennisvereinigung Ost-Bremen\, Gottfried-von-Cramm-Straße 3\, Bremen\, 28307\, Deutschland
CATEGORIES:Ranglistenturniere
ORGANIZER;CN="HB EBDC":MAILTO:vorsitzender@ebdc-bremen.de
GEO:53.0544821;8.9593262
X-APPLE-STRUCTURED-LOCATION;VALUE=URI;X-ADDRESS=Tennisvereinigung Ost-Bremen Gottfried-von-Cramm-Straße 3 Bremen 28307 Deutschland;X-APPLE-RADIUS=500;X-TITLE=Gottfried-von-Cramm-Straße 3:geo:8.9593262,53.0544821
END:VEVENT
END:VCALENDAR