BEGIN:VCALENDAR
VERSION:2.0
PRODID:-//Deutscher Doppelkopf-Verband e.  V. - ECPv6.15.20//NONSGML v1.0//EN
CALSCALE:GREGORIAN
METHOD:PUBLISH
X-WR-CALNAME:Deutscher Doppelkopf-Verband e.  V.
X-ORIGINAL-URL:https://doko-verband.de
X-WR-CALDESC:Veranstaltungen für Deutscher Doppelkopf-Verband e.  V.
REFRESH-INTERVAL;VALUE=DURATION:PT1H
X-Robots-Tag:noindex
X-PUBLISHED-TTL:PT1H
BEGIN:VTIMEZONE
TZID:Europe/Berlin
BEGIN:DAYLIGHT
TZOFFSETFROM:+0100
TZOFFSETTO:+0200
TZNAME:CEST
DTSTART:20250330T010000
END:DAYLIGHT
BEGIN:STANDARD
TZOFFSETFROM:+0200
TZOFFSETTO:+0100
TZNAME:CET
DTSTART:20251026T010000
END:STANDARD
BEGIN:DAYLIGHT
TZOFFSETFROM:+0100
TZOFFSETTO:+0200
TZNAME:CEST
DTSTART:20260329T010000
END:DAYLIGHT
BEGIN:STANDARD
TZOFFSETFROM:+0200
TZOFFSETTO:+0100
TZNAME:CET
DTSTART:20261025T010000
END:STANDARD
BEGIN:DAYLIGHT
TZOFFSETFROM:+0100
TZOFFSETTO:+0200
TZNAME:CEST
DTSTART:20270328T010000
END:DAYLIGHT
BEGIN:STANDARD
TZOFFSETFROM:+0200
TZOFFSETTO:+0100
TZNAME:CET
DTSTART:20271031T010000
END:STANDARD
END:VTIMEZONE
BEGIN:VEVENT
DTSTART;VALUE=DATE:20260905
DTEND;VALUE=DATE:20260906
DTSTAMP:20260421T143654
CREATED:20250628T192633Z
LAST-MODIFIED:20250628T192633Z
UID:10000154-1788566400-1788652799@doko-verband.de
SUMMARY:Achtelfinale DMM
DESCRIPTION:Einladungen werden noch bekannt gegeben.
URL:https://doko-verband.de/veranstaltung/achtelfinale-dmm/
CATEGORIES:Dt. Mannschaftsmeisterschaft
END:VEVENT
BEGIN:VEVENT
DTSTART;VALUE=DATE:20260906
DTEND;VALUE=DATE:20260907
DTSTAMP:20260421T143654
CREATED:20250628T192713Z
LAST-MODIFIED:20250628T192713Z
UID:10000155-1788652800-1788739199@doko-verband.de
SUMMARY:Viertelfinale DMM
DESCRIPTION:Einladungen werden noch bekannt gegeben.
URL:https://doko-verband.de/veranstaltung/viertelfinale-dmm/
CATEGORIES:Dt. Mannschaftsmeisterschaft
END:VEVENT
BEGIN:VEVENT
DTSTART;TZID=Europe/Berlin:20260919T100000
DTEND;TZID=Europe/Berlin:20260919T100000
DTSTAMP:20260421T143654
CREATED:20250628T193347Z
LAST-MODIFIED:20260312T204208Z
UID:10000160-1789812000-1789812000@doko-verband.de
SUMMARY:Dt. Einzelmeisterschaft  - Tag 1 (DDV / HRO ED)Mittagessen muss vorbestellt werden
DESCRIPTION:Einladung DEM_2026 \nDas Mittagessen muss bis 04.09.2026 vereinsweise beim Ausrichter per E-Mail: ft@btz-ib.de vorbestellt werden. \nEssensliste DEM 2026
URL:https://doko-verband.de/veranstaltung/dt-einzelmeisterschaft-tag-1-ddv-hro-ed/
LOCATION:„Das Restaurant“\, Rostocker Str. 1\, Dettmansdorf\, 18334\, Deutschland
CATEGORIES:D E M + Regios
ORGANIZER;CN="DDV":MAILTO:spielleiter.ddv@doko-verband.de
GEO:54.11184;12.529918
X-APPLE-STRUCTURED-LOCATION;VALUE=URI;X-ADDRESS=„Das Restaurant“ Rostocker Str. 1 Dettmansdorf 18334 Deutschland;X-APPLE-RADIUS=500;X-TITLE=Rostocker Str. 1:geo:12.529918,54.11184
END:VEVENT
BEGIN:VEVENT
DTSTART;TZID=Europe/Berlin:20260920T090000
DTEND;TZID=Europe/Berlin:20260920T090000
DTSTAMP:20260421T143654
CREATED:20250628T193456Z
LAST-MODIFIED:20260312T204425Z
UID:10000161-1789894800-1789894800@doko-verband.de
SUMMARY:Dt. Einzelmeisterschaft  - Tag 2 (DDV / HRO ED)Mittagessen muss vorbestellt werden
DESCRIPTION:Einladung DEM_2026 \nDas Mittagessen muss bis 04.09.2026 vereinsweise beim Ausrichter per E-Mail: ft@btz-ib.de vorbestellt werden. \nEssensliste DEM 2026
URL:https://doko-verband.de/veranstaltung/dt-einzelmeisterschaft-tag-2-ddv-hro-ed/
LOCATION:„Das Restaurant“\, Rostocker Str. 1\, Dettmansdorf\, 18334\, Deutschland
CATEGORIES:D E M + Regios
ORGANIZER;CN="DDV":MAILTO:spielleiter.ddv@doko-verband.de
GEO:54.11184;12.529918
X-APPLE-STRUCTURED-LOCATION;VALUE=URI;X-ADDRESS=„Das Restaurant“ Rostocker Str. 1 Dettmansdorf 18334 Deutschland;X-APPLE-RADIUS=500;X-TITLE=Rostocker Str. 1:geo:12.529918,54.11184
END:VEVENT
BEGIN:VEVENT
DTSTART;VALUE=DATE:20260926
DTEND;VALUE=DATE:20260927
DTSTAMP:20260421T143654
CREATED:20250913T210859Z
LAST-MODIFIED:20251105T210107Z
UID:10000174-1790380800-1790467199@doko-verband.de
SUMMARY:Sonderturnier (Sa.) in Oldenburg - OL 1ODC
DESCRIPTION:Max. 80 Teilnehmer – Einladung und vereinfachte Anmeldung folgen
URL:https://doko-verband.de/veranstaltung/sonderturnier-sa-in-oldenburg-ol-1odc/
CATEGORIES:Ranglistenturniere
ORGANIZER;CN="OL 1ODC":MAILTO:Aloys.Bokern@gmx.de
END:VEVENT
BEGIN:VEVENT
DTSTART;VALUE=DATE:20260927
DTEND;VALUE=DATE:20260928
DTSTAMP:20260421T143654
CREATED:20250913T210927Z
LAST-MODIFIED:20251105T210151Z
UID:10000175-1790467200-1790553599@doko-verband.de
SUMMARY:Sonderturnier (So.) in Oldenburg - OL 1ODC
DESCRIPTION:Max. 80 Teilnehmer – Einladung und vereinfachte Anmeldung folgen
URL:https://doko-verband.de/veranstaltung/sonderturnier-so-in-oldenburg-ol-1odc/
CATEGORIES:Ranglistenturniere
ORGANIZER;CN="OL 1ODC":MAILTO:Aloys.Bokern@gmx.de
END:VEVENT
END:VCALENDAR