BEGIN:VCALENDAR
VERSION:2.0
PRODID:-//Deutscher Doppelkopf-Verband e.  V. - ECPv6.15.20//NONSGML v1.0//EN
CALSCALE:GREGORIAN
METHOD:PUBLISH
X-WR-CALNAME:Deutscher Doppelkopf-Verband e.  V.
X-ORIGINAL-URL:https://doko-verband.de
X-WR-CALDESC:Veranstaltungen für Deutscher Doppelkopf-Verband e.  V.
REFRESH-INTERVAL;VALUE=DURATION:PT1H
X-Robots-Tag:noindex
X-PUBLISHED-TTL:PT1H
BEGIN:VTIMEZONE
TZID:Europe/Berlin
BEGIN:DAYLIGHT
TZOFFSETFROM:+0100
TZOFFSETTO:+0200
TZNAME:CEST
DTSTART:20250330T010000
END:DAYLIGHT
BEGIN:STANDARD
TZOFFSETFROM:+0200
TZOFFSETTO:+0100
TZNAME:CET
DTSTART:20251026T010000
END:STANDARD
BEGIN:DAYLIGHT
TZOFFSETFROM:+0100
TZOFFSETTO:+0200
TZNAME:CEST
DTSTART:20260329T010000
END:DAYLIGHT
BEGIN:STANDARD
TZOFFSETFROM:+0200
TZOFFSETTO:+0100
TZNAME:CET
DTSTART:20261025T010000
END:STANDARD
BEGIN:DAYLIGHT
TZOFFSETFROM:+0100
TZOFFSETTO:+0200
TZNAME:CEST
DTSTART:20270328T010000
END:DAYLIGHT
BEGIN:STANDARD
TZOFFSETFROM:+0200
TZOFFSETTO:+0100
TZNAME:CET
DTSTART:20271031T010000
END:STANDARD
END:VTIMEZONE
BEGIN:VEVENT
DTSTART;VALUE=DATE:20261107
DTEND;VALUE=DATE:20261108
DTSTAMP:20260421T181901
CREATED:20250628T192746Z
LAST-MODIFIED:20250628T192746Z
UID:10000156-1794009600-1794095999@doko-verband.de
SUMMARY:Halbfinale DMM
DESCRIPTION:Einladungen werden noch bekannt gegeben.
URL:https://doko-verband.de/veranstaltung/halbfinale-dmm-2/
CATEGORIES:Dt. Mannschaftsmeisterschaft
END:VEVENT
BEGIN:VEVENT
DTSTART;VALUE=DATE:20261108
DTEND;VALUE=DATE:20261109
DTSTAMP:20260421T181901
CREATED:20250628T192805Z
LAST-MODIFIED:20250628T192805Z
UID:10000157-1794096000-1794182399@doko-verband.de
SUMMARY:Finale DMM
DESCRIPTION:Einladungen werden noch bekannt gegeben.
URL:https://doko-verband.de/veranstaltung/finale-dmm-2/
CATEGORIES:Dt. Mannschaftsmeisterschaft
END:VEVENT
BEGIN:VEVENT
DTSTART;TZID=Europe/Berlin:20261121T103000
DTEND;TZID=Europe/Berlin:20261121T103000
DTSTAMP:20260421T181901
CREATED:20250628T191031Z
LAST-MODIFIED:20260224T220427Z
UID:10000146-1795257000-1795257000@doko-verband.de
SUMMARY:9. Spieltag Bundesliga 2026 - Ausrichter: MZ DR
DESCRIPTION:
URL:https://doko-verband.de/veranstaltung/9-spieltag-bundesliga-2026/
LOCATION:Bürgerhaus Wolfskehlen – Ristorante Da Me\, Albert-Schweitzer Str. 4\, Riedstadt-Wolfskehlen\, 64560\, Deutschland
CATEGORIES:Bundesliga
ORGANIZER;CN="MZ DR - BL":MAILTO:sandy@thesandy.de
GEO:49.8562;8.49664
X-APPLE-STRUCTURED-LOCATION;VALUE=URI;X-ADDRESS=Bürgerhaus Wolfskehlen – Ristorante Da Me Albert-Schweitzer Str. 4 Riedstadt-Wolfskehlen 64560 Deutschland;X-APPLE-RADIUS=500;X-TITLE=Albert-Schweitzer Str. 4:geo:8.49664,49.8562
END:VEVENT
BEGIN:VEVENT
DTSTART;TZID=Europe/Berlin:20261122T093000
DTEND;TZID=Europe/Berlin:20261122T093000
DTSTAMP:20260421T181901
CREATED:20250628T191115Z
LAST-MODIFIED:20260224T221006Z
UID:10000147-1795339800-1795339800@doko-verband.de
SUMMARY:10. Spieltag Bundesliga 2026 - Ausrichter: MZ DR
DESCRIPTION:
URL:https://doko-verband.de/veranstaltung/10-spieltag-bundesliga-2026/
LOCATION:Bürgerhaus Wolfskehlen – Ristorante Da Me\, Albert-Schweitzer Str. 4\, Riedstadt-Wolfskehlen\, 64560\, Deutschland
CATEGORIES:Bundesliga
ORGANIZER;CN="MZ DR - BL":MAILTO:sandy@thesandy.de
GEO:49.8562;8.49664
X-APPLE-STRUCTURED-LOCATION;VALUE=URI;X-ADDRESS=Bürgerhaus Wolfskehlen – Ristorante Da Me Albert-Schweitzer Str. 4 Riedstadt-Wolfskehlen 64560 Deutschland;X-APPLE-RADIUS=500;X-TITLE=Albert-Schweitzer Str. 4:geo:8.49664,49.8562
END:VEVENT
END:VCALENDAR