BEGIN:VCALENDAR
VERSION:2.0
PRODID:-//Deutscher Doppelkopf-Verband e.  V. - ECPv6.15.20//NONSGML v1.0//EN
CALSCALE:GREGORIAN
METHOD:PUBLISH
X-WR-CALNAME:Deutscher Doppelkopf-Verband e.  V.
X-ORIGINAL-URL:https://doko-verband.de
X-WR-CALDESC:Veranstaltungen für Deutscher Doppelkopf-Verband e.  V.
REFRESH-INTERVAL;VALUE=DURATION:PT1H
X-Robots-Tag:noindex
X-PUBLISHED-TTL:PT1H
BEGIN:VTIMEZONE
TZID:Europe/Berlin
BEGIN:DAYLIGHT
TZOFFSETFROM:+0100
TZOFFSETTO:+0200
TZNAME:CEST
DTSTART:20260329T010000
END:DAYLIGHT
BEGIN:STANDARD
TZOFFSETFROM:+0200
TZOFFSETTO:+0100
TZNAME:CET
DTSTART:20261025T010000
END:STANDARD
BEGIN:DAYLIGHT
TZOFFSETFROM:+0100
TZOFFSETTO:+0200
TZNAME:CEST
DTSTART:20270328T010000
END:DAYLIGHT
BEGIN:STANDARD
TZOFFSETFROM:+0200
TZOFFSETTO:+0100
TZNAME:CET
DTSTART:20271031T010000
END:STANDARD
BEGIN:DAYLIGHT
TZOFFSETFROM:+0100
TZOFFSETTO:+0200
TZNAME:CEST
DTSTART:20280326T010000
END:DAYLIGHT
BEGIN:STANDARD
TZOFFSETFROM:+0200
TZOFFSETTO:+0100
TZNAME:CET
DTSTART:20281029T010000
END:STANDARD
END:VTIMEZONE
BEGIN:VEVENT
DTSTART;VALUE=DATE:20270215
DTEND;VALUE=DATE:20270216
DTSTAMP:20260421T234514
CREATED:20250115T203336Z
LAST-MODIFIED:20250117T154919Z
UID:10000119-1802649600-1802735999@doko-verband.de
SUMMARY:Zahlungsfrist für Mitgliedsbeiträge und Startgelder (Regio\, Bundesliga\, BL-Quali\, DMM) und Anmeldefrist der Teilnehmer zu den Regionalmeisterschaften
DESCRIPTION:Letzter Tag für Zahlungen und Meldungen
URL:https://doko-verband.de/veranstaltung/zahlungsfrist-fuer-mitgliedsbeitraege-und-startgelder-regio-bundesliga-bl-quali-dmm-und-anmeldefrist-der-teilnehmer-zu-den-regionalmeisterschaften/2027-02-15/
LOCATION:D D V\, per E-Mail\, Iserlohn\, 58636\, Deutschland
CATEGORIES:Zahlungs- und Meldefristen
ORGANIZER;CN="DDV":MAILTO:spielleiter.ddv@doko-verband.de
GEO:51.3811544;7.7168169
X-APPLE-STRUCTURED-LOCATION;VALUE=URI;X-ADDRESS=D D V per E-Mail Iserlohn 58636 Deutschland;X-APPLE-RADIUS=500;X-TITLE=per E-Mail:geo:7.7168169,51.3811544
END:VEVENT
BEGIN:VEVENT
DTSTART;VALUE=DATE:20270220
DTEND;VALUE=DATE:20270221
DTSTAMP:20260421T234514
CREATED:20260304T222230Z
LAST-MODIFIED:20260304T222308Z
UID:10000199-1803081600-1803167999@doko-verband.de
SUMMARY:Mitgliederversammlung des DDV (MO K92)Voraussichtlich in Kamp-Lintfort
DESCRIPTION:Einladung\, Tagesordnung und Anträge werden den Vereinsvorsitzenden zugeschickt.
URL:https://doko-verband.de/veranstaltung/mitgliederversammlung-des-ddv-mo-k92voraussichtlicher-spielort-kamp-lintfort/
CATEGORIES:M G V
ORGANIZER;CN="DDV":MAILTO:spielleiter.ddv@doko-verband.de
END:VEVENT
BEGIN:VEVENT
DTSTART;VALUE=DATE:20270221
DTEND;VALUE=DATE:20270222
DTSTAMP:20260421T234514
CREATED:20260304T215434Z
LAST-MODIFIED:20260304T221802Z
UID:10000192-1803168000-1803254399@doko-verband.de
SUMMARY:Turnier zur MGV (Veranstalter: DDV)Voraussichtlicher Spielort: Kamp-Lintfort
DESCRIPTION:Einladung zum Download und vereinfachte Anmeldung über nuudel – FOLGEN NOCH \nVoraussichtlicher Spielort: Kamp-Lintfort
URL:https://doko-verband.de/veranstaltung/turnier-zur-mgv-veranstalter-ddv-2/
CATEGORIES:Ranglistenturniere
ORGANIZER;CN="DDV":MAILTO:spielleiter.ddv@doko-verband.de
END:VEVENT
END:VCALENDAR