BEGIN:VCALENDAR
VERSION:2.0
PRODID:-//Deutscher Doppelkopf-Verband e.  V. - ECPv6.15.20//NONSGML v1.0//EN
CALSCALE:GREGORIAN
METHOD:PUBLISH
X-WR-CALNAME:Deutscher Doppelkopf-Verband e.  V.
X-ORIGINAL-URL:https://doko-verband.de
X-WR-CALDESC:Veranstaltungen für Deutscher Doppelkopf-Verband e.  V.
REFRESH-INTERVAL;VALUE=DURATION:PT1H
X-Robots-Tag:noindex
X-PUBLISHED-TTL:PT1H
BEGIN:VTIMEZONE
TZID:Europe/Berlin
BEGIN:DAYLIGHT
TZOFFSETFROM:+0100
TZOFFSETTO:+0200
TZNAME:CEST
DTSTART:20260329T010000
END:DAYLIGHT
BEGIN:STANDARD
TZOFFSETFROM:+0200
TZOFFSETTO:+0100
TZNAME:CET
DTSTART:20261025T010000
END:STANDARD
BEGIN:DAYLIGHT
TZOFFSETFROM:+0100
TZOFFSETTO:+0200
TZNAME:CEST
DTSTART:20270328T010000
END:DAYLIGHT
BEGIN:STANDARD
TZOFFSETFROM:+0200
TZOFFSETTO:+0100
TZNAME:CET
DTSTART:20271031T010000
END:STANDARD
BEGIN:DAYLIGHT
TZOFFSETFROM:+0100
TZOFFSETTO:+0200
TZNAME:CEST
DTSTART:20280326T010000
END:DAYLIGHT
BEGIN:STANDARD
TZOFFSETFROM:+0200
TZOFFSETTO:+0100
TZNAME:CET
DTSTART:20281029T010000
END:STANDARD
END:VTIMEZONE
BEGIN:VEVENT
DTSTART;VALUE=DATE:20271009
DTEND;VALUE=DATE:20271010
DTSTAMP:20260424T123732
CREATED:20260304T224401Z
LAST-MODIFIED:20260304T224424Z
UID:10000213-1823040000-1823126399@doko-verband.de
SUMMARY:7. Spieltag Bundesliga 2027
DESCRIPTION:
URL:https://doko-verband.de/veranstaltung/6-spieltag-bundesliga-2027-2/
CATEGORIES:Bundesliga
END:VEVENT
BEGIN:VEVENT
DTSTART;VALUE=DATE:20271010
DTEND;VALUE=DATE:20271011
DTSTAMP:20260424T123732
CREATED:20260304T224418Z
LAST-MODIFIED:20260304T224418Z
UID:10000214-1823126400-1823212799@doko-verband.de
SUMMARY:8. Spieltag Bundesliga 2027
DESCRIPTION:
URL:https://doko-verband.de/veranstaltung/8-spieltag-bundesliga-2027/
CATEGORIES:Bundesliga
END:VEVENT
END:VCALENDAR